BEGIN:VCALENDAR
PRODID:-//Feedo Feed//NONSGML v1.0//EN
VERSION:2.0
CALSCALE:GREGORIAN
METHOD:PUBLISH
X-WR-CALNAME:Gabi Gould
X-WR-CALDESC:
X-MS-OLK-FORCEINSPECTOROPEN:TRUE
BEGIN:VEVENT
DTSTAMP:20260424T033142Z
DTSTART:20171004T131500Z
DTEND:20171004T134500Z
TRANSP:TRANSPARENT
UID:582132017-10-04
SUMMARY:Gabi Gould
DESCRIPTION:
URL:http://www.cmcatlanta.com/index.php/component/ohanah/gabi-gould-4?format=html&amp;Itemid=
CATEGORIES:Richard Mills
GEO:
LOCATION:CMC Brookhaven, Private Lesson
END:VEVENT
END:VCALENDAR