BEGIN:VCALENDAR
PRODID:-//Feedo Feed//NONSGML v1.0//EN
VERSION:2.0
CALSCALE:GREGORIAN
METHOD:PUBLISH
X-WR-CALNAME:GianLulca Florio
X-WR-CALDESC:In-person.  \nLearning pod/after school program
X-MS-OLK-FORCEINSPECTOROPEN:TRUE
BEGIN:VEVENT
DTSTAMP:20260420T182011Z
DTSTART:20201215T203000Z
DTEND:20201215T210000Z
TRANSP:TRANSPARENT
UID:909082020-12-15
SUMMARY:GianLulca Florio
DESCRIPTION:In-person.  \nLearning pod/after school program
URL:http://www.cmcatlanta.com/index.php/component/ohanah/gianlulca-florio-17?format=html&amp;Itemid=
CATEGORIES:Peter Sloan
GEO:33.7704955;-84.29584339999997
LOCATION:CMC Decatur, Private Lesson
END:VEVENT
END:VCALENDAR