BEGIN:VCALENDAR
PRODID:-//Feedo Feed//NONSGML v1.0//EN
VERSION:2.0
CALSCALE:GREGORIAN
METHOD:PUBLISH
X-WR-CALNAME:Guoliang Qiu
X-WR-CALDESC:online lessons
X-MS-OLK-FORCEINSPECTOROPEN:TRUE
BEGIN:VEVENT
DTSTAMP:20260421T043326Z
DTSTART:20210424T133000Z
DTEND:20210424T140000Z
TRANSP:TRANSPARENT
UID:949472021-04-24
SUMMARY:Guoliang Qiu
DESCRIPTION:online lessons
URL:http://www.cmcatlanta.com/index.php/component/ohanah/giaoliang-qiu-16?format=html&amp;Itemid=
CATEGORIES:Peter Sloan
GEO:33.7704955;-84.29584339999997
LOCATION:CMC Decatur, Private Lesson
END:VEVENT
END:VCALENDAR