BEGIN:VCALENDAR
PRODID:-//Feedo Feed//NONSGML v1.0//EN
VERSION:2.0
CALSCALE:GREGORIAN
METHOD:PUBLISH
X-WR-CALNAME:Performance Workshop L5P
X-WR-CALDESC:
X-MS-OLK-FORCEINSPECTOROPEN:TRUE
BEGIN:VEVENT
DTSTAMP:20260421T143504Z
DTSTART:20220621T120000Z
DTEND:20220621T190000Z
TRANSP:TRANSPARENT
UID:1058022022-06-21
SUMMARY:Performance Workshop L5P
DESCRIPTION:
URL:http://www.cmcatlanta.com/index.php/component/ohanah/guitar-and-uke-camp-decatur-10-1?format=html&amp;Itemid=
CATEGORIES:Akeal Evans
GEO:33.7705095;-84.29586770000003
LOCATION:CMC Decatur, Faculty Assignment
END:VEVENT
END:VCALENDAR