BEGIN:VCALENDAR
PRODID:-//Feedo Feed//NONSGML v1.0//EN
VERSION:2.0
CALSCALE:GREGORIAN
METHOD:PUBLISH
X-WR-CALNAME:Guitar and Uke Lessons, Dunwoody
X-WR-CALDESC:
X-MS-OLK-FORCEINSPECTOROPEN:TRUE
BEGIN:VEVENT
DTSTAMP:20260421T143447Z
DTSTART:20220622T140000Z
DTEND:20220622T190000Z
TRANSP:TRANSPARENT
UID:1056172022-06-22
SUMMARY:Guitar and Uke Lessons, Dunwoody
DESCRIPTION:
URL:http://www.cmcatlanta.com/index.php/component/ohanah/guitar-and-uke-camp-decatur-11?format=html&amp;Itemid=
CATEGORIES:Stephen Pepper
GEO:33.9462125;-84.33464730000003
LOCATION:CMC Dunwoody, Private Lesson
END:VEVENT
END:VCALENDAR