BEGIN:VCALENDAR
PRODID:-//Feedo Feed//NONSGML v1.0//EN
VERSION:2.0
CALSCALE:GREGORIAN
METHOD:PUBLISH
X-WR-CALNAME:Guitar and Uke Camp Dunwoody
X-WR-CALDESC:
X-MS-OLK-FORCEINSPECTOROPEN:TRUE
BEGIN:VEVENT
DTSTAMP:20260421T131009Z
DTSTART:20220621T120000Z
DTEND:20220621T170000Z
TRANSP:TRANSPARENT
UID:1055442022-06-21
SUMMARY:Guitar and Uke Camp Dunwoody
DESCRIPTION:
URL:http://www.cmcatlanta.com/index.php/component/ohanah/guitar-and-uke-camp-dunwoody-1?format=html&amp;Itemid=
CATEGORIES:Johanna Millin
GEO:33.94902;-84.33631689999999
LOCATION:CMC Dunwoody, Faculty Assignment
END:VEVENT
END:VCALENDAR