BEGIN:VCALENDAR
PRODID:-//Feedo Feed//NONSGML v1.0//EN
VERSION:2.0
CALSCALE:GREGORIAN
METHOD:PUBLISH
X-WR-CALNAME:Guitar and Uke Camp Little 5 Points
X-WR-CALDESC:
X-MS-OLK-FORCEINSPECTOROPEN:TRUE
BEGIN:VEVENT
DTSTAMP:20260421T143508Z
DTSTART:20220617T110000Z
DTEND:20220617T050000Z
TRANSP:TRANSPARENT
UID:1059412022-06-17
SUMMARY:Guitar and Uke Camp Little 5 Points
DESCRIPTION:
URL:http://www.cmcatlanta.com/index.php/component/ohanah/guitar-and-uke-camp-little-5-points-9?format=html&amp;Itemid=
CATEGORIES:Jack Lloyd
GEO:33.764702;-84.35057239999998
LOCATION:CMC Little Five Points, Faculty Assignment
END:VEVENT
END:VCALENDAR