BEGIN:VCALENDAR
PRODID:-//Feedo Feed//NONSGML v1.0//EN
VERSION:2.0
CALSCALE:GREGORIAN
METHOD:PUBLISH
X-WR-CALNAME:Guoliang Qiu
X-WR-CALDESC:
X-MS-OLK-FORCEINSPECTOROPEN:TRUE
BEGIN:VEVENT
DTSTAMP:20260426T002215Z
DTSTART:20220305T133000Z
DTEND:20220305T140000Z
TRANSP:TRANSPARENT
UID:965252022-03-05
SUMMARY:Guoliang Qiu
DESCRIPTION:
URL:http://www.cmcatlanta.com/index.php/component/ohanah/guoliang-qiu-55?format=html&amp;Itemid=
CATEGORIES:Peter Sloan
GEO:33.7704955;-84.29584339999997
LOCATION:CMC Decatur, Private Lesson
END:VEVENT
END:VCALENDAR