BEGIN:VCALENDAR
PRODID:-//Feedo Feed//NONSGML v1.0//EN
VERSION:2.0
CALSCALE:GREGORIAN
METHOD:PUBLISH
X-WR-CALNAME:Guthrie Nash
X-WR-CALDESC:
X-MS-OLK-FORCEINSPECTOROPEN:TRUE
BEGIN:VEVENT
DTSTAMP:20260421T072441Z
DTSTART:20210421T203000Z
DTEND:20210421T210000Z
TRANSP:TRANSPARENT
UID:950872021-04-21
SUMMARY:Guthrie Nash
DESCRIPTION:
URL:http://www.cmcatlanta.com/index.php/component/ohanah/guthrie-nash-12?format=html&amp;Itemid=
CATEGORIES:Stephen Pepper
GEO:33.7646878;-84.35068100000001
LOCATION:CMC Little 5 Points, Private Lesson
END:VEVENT
END:VCALENDAR