BEGIN:VCALENDAR
PRODID:-//Feedo Feed//NONSGML v1.0//EN
VERSION:2.0
CALSCALE:GREGORIAN
METHOD:PUBLISH
X-WR-CALNAME:Halley Simpson
X-WR-CALDESC:Uke lesson
X-MS-OLK-FORCEINSPECTOROPEN:TRUE
BEGIN:VEVENT
DTSTAMP:20260423T021758Z
DTSTART:20210824T190000Z
DTEND:20210824T193000Z
TRANSP:TRANSPARENT
UID:996052021-08-24
SUMMARY:Halley Simpson
DESCRIPTION:Uke lesson
URL:http://www.cmcatlanta.com/index.php/component/ohanah/halley-simpson-1?format=html&amp;Itemid=
CATEGORIES:Pedro Morales
GEO:33.9462125;-84.33464730000003
LOCATION:CMC Dunwoody, Private Lesson
END:VEVENT
END:VCALENDAR