BEGIN:VCALENDAR
PRODID:-//Feedo Feed//NONSGML v1.0//EN
VERSION:2.0
CALSCALE:GREGORIAN
METHOD:PUBLISH
X-WR-CALNAME:Harper Gamble
X-WR-CALDESC:online
X-MS-OLK-FORCEINSPECTOROPEN:TRUE
BEGIN:VEVENT
DTSTAMP:20260421T235853Z
DTSTART:20201019T200000Z
DTEND:20201019T203000Z
TRANSP:TRANSPARENT
UID:927382020-10-19
SUMMARY:Harper Gamble
DESCRIPTION:online
URL:http://www.cmcatlanta.com/index.php/component/ohanah/harper-gambe-10?format=html&amp;Itemid=
CATEGORIES:Diana Orozco
GEO:33.7646878;-84.35068100000001
LOCATION:CMC Little 5 Points, Private Lesson
END:VEVENT
END:VCALENDAR