BEGIN:VCALENDAR
PRODID:-//Feedo Feed//NONSGML v1.0//EN
VERSION:2.0
CALSCALE:GREGORIAN
METHOD:PUBLISH
X-WR-CALNAME:High School Ensemble
X-WR-CALDESC:
X-MS-OLK-FORCEINSPECTOROPEN:TRUE
BEGIN:VEVENT
DTSTAMP:20260424T013936Z
DTSTART:20230323T173000Z
DTEND:20230323T193000Z
TRANSP:TRANSPARENT
UID:1109012023-03-23
SUMMARY:High School Ensemble
DESCRIPTION:
URL:http://www.cmcatlanta.com/index.php/component/ohanah/high-school-ensemble-1?format=html&amp;Itemid=
CATEGORIES:Andre Fountain
GEO:33.764702;-84.35057239999998
LOCATION:CMC Little Five Points, Faculty Assignment
END:VEVENT
END:VCALENDAR