BEGIN:VCALENDAR
PRODID:-//Feedo Feed//NONSGML v1.0//EN
VERSION:2.0
CALSCALE:GREGORIAN
METHOD:PUBLISH
X-WR-CALNAME:High School Ensemble (Monday)
X-WR-CALDESC:
X-MS-OLK-FORCEINSPECTOROPEN:TRUE
BEGIN:VEVENT
DTSTAMP:20260422T180430Z
DTSTART:20230116T130000Z
DTEND:20230116T150000Z
TRANSP:TRANSPARENT
UID:1105332023-01-16
SUMMARY:High School Ensemble (Monday)
DESCRIPTION:
URL:http://www.cmcatlanta.com/index.php/component/ohanah/high-school-ensemble-monday-1?format=html&amp;Itemid=
CATEGORIES:Khesner Oliveira
GEO:33.764702;-84.35057239999998
LOCATION:CMC Little Five Points, Faculty Assignment
END:VEVENT
END:VCALENDAR