BEGIN:VCALENDAR
PRODID:-//Feedo Feed//NONSGML v1.0//EN
VERSION:2.0
CALSCALE:GREGORIAN
METHOD:PUBLISH
X-WR-CALNAME:High School Ensemble (Saturday)
X-WR-CALDESC:
X-MS-OLK-FORCEINSPECTOROPEN:TRUE
BEGIN:VEVENT
DTSTAMP:20260422T224232Z
DTSTART:20230128T151500Z
DTEND:20230128T171500Z
TRANSP:TRANSPARENT
UID:1105532023-01-28
SUMMARY:High School Ensemble (Saturday)
DESCRIPTION:
URL:http://www.cmcatlanta.com/index.php/component/ohanah/high-school-ensemble-saturday-1?format=html&amp;Itemid=
CATEGORIES:Khesner Oliveira
GEO:33.764702;-84.35057239999998
LOCATION:CMC Little Five Points, Faculty Assignment
END:VEVENT
END:VCALENDAR