BEGIN:VCALENDAR
PRODID:-//Feedo Feed//NONSGML v1.0//EN
VERSION:2.0
CALSCALE:GREGORIAN
METHOD:PUBLISH
X-WR-CALNAME:Hill Barnett
X-WR-CALDESC:
X-MS-OLK-FORCEINSPECTOROPEN:TRUE
BEGIN:VEVENT
DTSTAMP:20260420T212739Z
DTSTART:20210304T213000Z
DTEND:20210304T220000Z
TRANSP:TRANSPARENT
UID:946322021-03-04
SUMMARY:Hill Barnett
DESCRIPTION:
URL:http://www.cmcatlanta.com/index.php/component/ohanah/hill-barnett-16?format=html&amp;Itemid=
CATEGORIES:Diana Orozco
GEO:33.7646878;-84.35068100000001
LOCATION:CMC Little 5 Points, Private Lesson
END:VEVENT
END:VCALENDAR