BEGIN:VCALENDAR
PRODID:-//Feedo Feed//NONSGML v1.0//EN
VERSION:2.0
CALSCALE:GREGORIAN
METHOD:PUBLISH
X-WR-CALNAME:Holden Greathouse
X-WR-CALDESC:
X-MS-OLK-FORCEINSPECTOROPEN:TRUE
BEGIN:VEVENT
DTSTAMP:20260422T214158Z
DTSTART:20210721T170000Z
DTEND:20210721T173000Z
TRANSP:TRANSPARENT
UID:963102021-07-21
SUMMARY:Holden Greathouse
DESCRIPTION:
URL:http://www.cmcatlanta.com/index.php/component/ohanah/holden-greathouse?format=html&amp;Itemid=
CATEGORIES:Peter Sloan
GEO:33.7704955;-84.29584339999997
LOCATION:CMC Decatur, Private Lesson
END:VEVENT
END:VCALENDAR