BEGIN:VCALENDAR
PRODID:-//Feedo Feed//NONSGML v1.0//EN
VERSION:2.0
CALSCALE:GREGORIAN
METHOD:PUBLISH
X-WR-CALNAME:Hudson Hatton
X-WR-CALDESC:
X-MS-OLK-FORCEINSPECTOROPEN:TRUE
BEGIN:VEVENT
DTSTAMP:20260424T161917Z
DTSTART:20230706T200000Z
DTEND:20230706T203000Z
TRANSP:TRANSPARENT
UID:1070692023-07-06
SUMMARY:Hudson Hatton
DESCRIPTION:
URL:http://www.cmcatlanta.com/index.php/component/ohanah/hudson-hatton-18?format=html&amp;Itemid=
CATEGORIES:Khesner Oliveira
GEO:33.7704955;-84.29584339999997
LOCATION:CMC Decatur, Private Lesson
END:VEVENT
END:VCALENDAR