BEGIN:VCALENDAR
PRODID:-//Feedo Feed//NONSGML v1.0//EN
VERSION:2.0
CALSCALE:GREGORIAN
METHOD:PUBLISH
X-WR-CALNAME:Hudson Hatton
X-WR-CALDESC:
X-MS-OLK-FORCEINSPECTOROPEN:TRUE
BEGIN:VEVENT
DTSTAMP:20260423T062418Z
DTSTART:20230302T200000Z
DTEND:20230302T203000Z
TRANSP:TRANSPARENT
UID:1070512023-03-02
SUMMARY:Hudson Hatton
DESCRIPTION:
URL:http://www.cmcatlanta.com/index.php/component/ohanah/hudson-hatton-35?format=html&amp;Itemid=
CATEGORIES:Khesner Oliveira
GEO:33.7704955;-84.29584339999997
LOCATION:CMC Decatur, Private Lesson
END:VEVENT
END:VCALENDAR