BEGIN:VCALENDAR
PRODID:-//Feedo Feed//NONSGML v1.0//EN
VERSION:2.0
CALSCALE:GREGORIAN
METHOD:PUBLISH
X-WR-CALNAME:Inman Park Festival Student & Faculty Showcase
X-WR-CALDESC:Join us in the heart of the Inman Park Festival for two days of student and faculty performances.   \nSaturday, April 25 \n1 pm Anna Dotsenko IFC: Irish Flute Club\n2 pm Parade Break\n3 pm CMC Atlanta Performance Workshop, rock, jazz, fusion\n4 pm CMC Atlanta Performance Workshop II, rock, jazz, fusion\n5 pm CMC Atlanta Production Workshop, new student and faculty works: emo, edm, and more\nSunday, April 26th\n1 pm Andre Fountain & Friends rock classics\n2 pm Brock Tammeus, Classical piano and chambermusic, premiere of GAP student Sydney Martin's piano trio\n3 pm Jenn Cornell, Strings Now, plus AfterSchool Music Program string ensemble\n4 pm CMC Atlanta Performance Workshop, rock, jazz, fusion, originals and cover tunes
X-MS-OLK-FORCEINSPECTOROPEN:TRUE
BEGIN:VEVENT
DTSTAMP:20260422T185307Z
DTSTART:20260426T120000Z
DTEND:20260426T120000Z
TRANSP:TRANSPARENT
UID:1308882026-04-26
SUMMARY:Inman Park Festival Student & Faculty Showcase
DESCRIPTION:Join us in the heart of the Inman Park Festival for two days of student and faculty performances.   \nSaturday, April 25 \n1 pm Anna Dotsenko IFC: Irish Flute Club\n2 pm Parade Break\n3 pm CMC Atlanta Performance Workshop, rock, jazz, fusion\n4 pm CMC Atlanta Performance Workshop II, rock, jazz, fusion\n5 pm CMC Atlanta Production Workshop, new student and faculty works: emo, edm, and more\nSunday, April 26th\n1 pm Andre Fountain & Friends rock classics\n2 pm Brock Tammeus, Classical piano and chambermusic, premiere of GAP student Sydney Martin's piano trio\n3 pm Jenn Cornell, Strings Now, plus AfterSchool Music Program string ensemble\n4 pm CMC Atlanta Performance Workshop, rock, jazz, fusion, originals and cover tunes
URL:http://www.cmcatlanta.com/index.php/component/ohanah/inman-park-festival-student-faculty-showcase-1?format=html&amp;Itemid=
CATEGORIES:Master Calendar
GEO:
LOCATION:CMC Inman Park
END:VEVENT
END:VCALENDAR