BEGIN:VCALENDAR
PRODID:-//Feedo Feed//NONSGML v1.0//EN
VERSION:2.0
CALSCALE:GREGORIAN
METHOD:PUBLISH
X-WR-CALNAME:Inman Park Festival Student & Faculty Showcase
X-WR-CALDESC:Join us in the heart of the Inman Park Festival for two days of student and faculty performances.   
X-MS-OLK-FORCEINSPECTOROPEN:TRUE
BEGIN:VEVENT
DTSTAMP:20260421T192329Z
DTSTART:20260425T120000Z
DTEND:20260425T120000Z
TRANSP:TRANSPARENT
UID:1308872026-04-25
SUMMARY:Inman Park Festival Student & Faculty Showcase
DESCRIPTION:Join us in the heart of the Inman Park Festival for two days of student and faculty performances.   
URL:http://www.cmcatlanta.com/index.php/component/ohanah/inman-park-festival-student-faculty-showcase?format=html&amp;Itemid=
CATEGORIES:Master Calendar
GEO:
LOCATION:CMC Inman Park
END:VEVENT
END:VCALENDAR