BEGIN:VCALENDAR
PRODID:-//Feedo Feed//NONSGML v1.0//EN
VERSION:2.0
CALSCALE:GREGORIAN
METHOD:PUBLISH
X-WR-CALNAME:Isaac Gensler
X-WR-CALDESC:
X-MS-OLK-FORCEINSPECTOROPEN:TRUE
BEGIN:VEVENT
DTSTAMP:20260422T144611Z
DTSTART:20210621T170000Z
DTEND:20210621T173000Z
TRANSP:TRANSPARENT
UID:957252021-06-21
SUMMARY:Isaac Gensler
DESCRIPTION:
URL:http://www.cmcatlanta.com/index.php/component/ohanah/isaac-gensler-1?format=html&amp;Itemid=
CATEGORIES:Pedro Morales
GEO:33.7704955;-84.29584339999997
LOCATION:CMC Decatur, Private Lesson
END:VEVENT
END:VCALENDAR