BEGIN:VCALENDAR
PRODID:-//Feedo Feed//NONSGML v1.0//EN
VERSION:2.0
CALSCALE:GREGORIAN
METHOD:PUBLISH
X-WR-CALNAME:Isabelle Shepard
X-WR-CALDESC:drum lesson
X-MS-OLK-FORCEINSPECTOROPEN:TRUE
BEGIN:VEVENT
DTSTAMP:20260422T202018Z
DTSTART:20210719T173000Z
DTEND:20210719T180000Z
TRANSP:TRANSPARENT
UID:962962021-07-19
SUMMARY:Isabelle Shepard
DESCRIPTION:drum lesson
URL:http://www.cmcatlanta.com/index.php/component/ohanah/isabelle-shepard?format=html&amp;Itemid=
CATEGORIES:Brock Tammeus
GEO:33.7704955;-84.29584339999997
LOCATION:CMC Decatur, Private Lesson
END:VEVENT
END:VCALENDAR