BEGIN:VCALENDAR
PRODID:-//Feedo Feed//NONSGML v1.0//EN
VERSION:2.0
CALSCALE:GREGORIAN
METHOD:PUBLISH
X-WR-CALNAME:Jack Lloyd Approved Absence
X-WR-CALDESC:
X-MS-OLK-FORCEINSPECTOROPEN:TRUE
BEGIN:VEVENT
DTSTAMP:20260424T122835Z
DTSTART:20230726T230000Z
DTEND:20230727T050000Z
TRANSP:TRANSPARENT
UID:1114642023-07-27
SUMMARY:Jack Lloyd Approved Absence
DESCRIPTION:
URL:http://www.cmcatlanta.com/index.php/component/ohanah/jack-lloyd-approved-absence-18?format=html&amp;Itemid=
CATEGORIES:Jack Lloyd
GEO:
LOCATION:
END:VEVENT
END:VCALENDAR