BEGIN:VCALENDAR
PRODID:-//Feedo Feed//NONSGML v1.0//EN
VERSION:2.0
CALSCALE:GREGORIAN
METHOD:PUBLISH
X-WR-CALNAME:Jack Tirey
X-WR-CALDESC:Online drum lessons.
X-MS-OLK-FORCEINSPECTOROPEN:TRUE
BEGIN:VEVENT
DTSTAMP:20260422T015952Z
DTSTART:20221002T150000Z
DTEND:20221002T153000Z
TRANSP:TRANSPARENT
UID:1091852022-10-02
SUMMARY:Jack Tirey
DESCRIPTION:Online drum lessons.
URL:http://www.cmcatlanta.com/index.php/component/ohanah/jack-tirey-4?format=html&amp;Itemid=
CATEGORIES:Stephen Pepper
GEO:33.9462125;-84.33464730000003
LOCATION:CMC Dunwoody, Private Lesson
END:VEVENT
END:VCALENDAR