BEGIN:VCALENDAR
PRODID:-//Feedo Feed//NONSGML v1.0//EN
VERSION:2.0
CALSCALE:GREGORIAN
METHOD:PUBLISH
X-WR-CALNAME:Jack Tirey
X-WR-CALDESC:Online drum lessons.
X-MS-OLK-FORCEINSPECTOROPEN:TRUE
BEGIN:VEVENT
DTSTAMP:20260422T020012Z
DTSTART:20221016T150000Z
DTEND:20221016T153000Z
TRANSP:TRANSPARENT
UID:1091872022-10-16
SUMMARY:Jack Tirey
DESCRIPTION:Online drum lessons.
URL:http://www.cmcatlanta.com/index.php/component/ohanah/jack-tirey-5?format=html&amp;Itemid=
CATEGORIES:Stephen Pepper
GEO:33.9462125;-84.33464730000003
LOCATION:CMC Dunwoody, Private Lesson
END:VEVENT
END:VCALENDAR