BEGIN:VCALENDAR
PRODID:-//Feedo Feed//NONSGML v1.0//EN
VERSION:2.0
CALSCALE:GREGORIAN
METHOD:PUBLISH
X-WR-CALNAME:Jackson Doyle
X-WR-CALDESC:
X-MS-OLK-FORCEINSPECTOROPEN:TRUE
BEGIN:VEVENT
DTSTAMP:20260422T152632Z
DTSTART:20230104T220000Z
DTEND:20230105T230000Z
TRANSP:TRANSPARENT
UID:1104002023-01-04
SUMMARY:Jackson Doyle
DESCRIPTION:
URL:http://www.cmcatlanta.com/index.php/component/ohanah/jackson-doyle-32?format=html&amp;Itemid=
CATEGORIES:Phil Sims
GEO:33.764702;-84.35057239999998
LOCATION:CMC Little Five Points, Faculty Assignment
END:VEVENT
END:VCALENDAR