BEGIN:VCALENDAR
PRODID:-//Feedo Feed//NONSGML v1.0//EN
VERSION:2.0
CALSCALE:GREGORIAN
METHOD:PUBLISH
X-WR-CALNAME:Jackson Walton
X-WR-CALDESC:
X-MS-OLK-FORCEINSPECTOROPEN:TRUE
BEGIN:VEVENT
DTSTAMP:20260424T052837Z
DTSTART:20180205T210000Z
DTEND:20180205T213000Z
TRANSP:TRANSPARENT
UID:588462018-02-05
SUMMARY:Jackson Walton
DESCRIPTION:
URL:http://www.cmcatlanta.com/index.php/component/ohanah/jackson-walton-15?format=html&amp;Itemid=
CATEGORIES:Pedro Morales
GEO:33.7646878;-84.35068100000001
LOCATION:CMC Little 5 Points, Private Lesson
END:VEVENT
END:VCALENDAR