BEGIN:VCALENDAR
PRODID:-//Feedo Feed//NONSGML v1.0//EN
VERSION:2.0
CALSCALE:GREGORIAN
METHOD:PUBLISH
X-WR-CALNAME:Jacob Flack
X-WR-CALDESC:Online bass lesson.
X-MS-OLK-FORCEINSPECTOROPEN:TRUE
BEGIN:VEVENT
DTSTAMP:20260420T214353Z
DTSTART:20210428T173000Z
DTEND:20210428T183000Z
TRANSP:TRANSPARENT
UID:905172021-04-28
SUMMARY:Jacob Flack
DESCRIPTION:Online bass lesson.
URL:http://www.cmcatlanta.com/index.php/component/ohanah/jacob-flack-114?format=html&amp;Itemid=
CATEGORIES:Johanna Millin
GEO:33.7646878;-84.35068100000001
LOCATION:CMC Little 5 Points, Private Lesson
END:VEVENT
END:VCALENDAR