BEGIN:VCALENDAR
PRODID:-//Feedo Feed//NONSGML v1.0//EN
VERSION:2.0
CALSCALE:GREGORIAN
METHOD:PUBLISH
X-WR-CALNAME:Jaela Huang
X-WR-CALDESC:
X-MS-OLK-FORCEINSPECTOROPEN:TRUE
BEGIN:VEVENT
DTSTAMP:20260421T175026Z
DTSTART:20220829T193000Z
DTEND:20220829T200000Z
TRANSP:TRANSPARENT
UID:1060272022-08-29
SUMMARY:Jaela Huang
DESCRIPTION:
URL:http://www.cmcatlanta.com/index.php/component/ohanah/jaela-huang-15?format=html&amp;Itemid=
CATEGORIES:Emelyn Carden
GEO:33.9462125;-84.33464730000003
LOCATION:CMC Dunwoody, Private Lesson
END:VEVENT
END:VCALENDAR