BEGIN:VCALENDAR
PRODID:-//Feedo Feed//NONSGML v1.0//EN
VERSION:2.0
CALSCALE:GREGORIAN
METHOD:PUBLISH
X-WR-CALNAME:Jaela Huang (no lesson, closed for Labor Day)
X-WR-CALDESC:
X-MS-OLK-FORCEINSPECTOROPEN:TRUE
BEGIN:VEVENT
DTSTAMP:20260421T175012Z
DTSTART:20220905T193000Z
DTEND:20220905T200000Z
TRANSP:TRANSPARENT
UID:1060282022-09-05
SUMMARY:Jaela Huang (no lesson, closed for Labor Day)
DESCRIPTION:
URL:http://www.cmcatlanta.com/index.php/component/ohanah/jaela-huang-16?format=html&amp;Itemid=
CATEGORIES:Emelyn Carden
GEO:33.9462125;-84.33464730000003
LOCATION:CMC Dunwoody, Private Lesson
END:VEVENT
END:VCALENDAR