BEGIN:VCALENDAR
PRODID:-//Feedo Feed//NONSGML v1.0//EN
VERSION:2.0
CALSCALE:GREGORIAN
METHOD:PUBLISH
X-WR-CALNAME:Jaela Huang (no lesson, closed for holiday break)
X-WR-CALDESC:
X-MS-OLK-FORCEINSPECTOROPEN:TRUE
BEGIN:VEVENT
DTSTAMP:20260421T204720Z
DTSTART:20221219T193000Z
DTEND:20221219T200000Z
TRANSP:TRANSPARENT
UID:1060432022-12-19
SUMMARY:Jaela Huang (no lesson, closed for holiday break)
DESCRIPTION:
URL:http://www.cmcatlanta.com/index.php/component/ohanah/jaela-huang-31?format=html&amp;Itemid=
CATEGORIES:Emelyn Carden
GEO:33.9462125;-84.33464730000003
LOCATION:CMC Dunwoody, Private Lesson
END:VEVENT
END:VCALENDAR