BEGIN:VCALENDAR
PRODID:-//Feedo Feed//NONSGML v1.0//EN
VERSION:2.0
CALSCALE:GREGORIAN
METHOD:PUBLISH
X-WR-CALNAME:Jakob de Roode
X-WR-CALDESC:
X-MS-OLK-FORCEINSPECTOROPEN:TRUE
BEGIN:VEVENT
DTSTAMP:20260423T021953Z
DTSTART:20210824T210000Z
DTEND:20210824T213000Z
TRANSP:TRANSPARENT
UID:998552021-08-24
SUMMARY:Jakob de Roode
DESCRIPTION:
URL:http://www.cmcatlanta.com/index.php/component/ohanah/jakob-de-roode-197?format=html&amp;Itemid=
CATEGORIES:Scott Plato
GEO:33.7646878;-84.35068100000001
LOCATION:CMC Little 5 Points, Private Lesson
END:VEVENT
END:VCALENDAR