BEGIN:VCALENDAR
PRODID:-//Feedo Feed//NONSGML v1.0//EN
VERSION:2.0
CALSCALE:GREGORIAN
METHOD:PUBLISH
X-WR-CALNAME:Jenn Cornell Approved Absence
X-WR-CALDESC:
X-MS-OLK-FORCEINSPECTOROPEN:TRUE
BEGIN:VEVENT
DTSTAMP:20260424T150737Z
DTSTART:20230702T230000Z
DTEND:20230703T050000Z
TRANSP:TRANSPARENT
UID:1114782023-07-03
SUMMARY:Jenn Cornell Approved Absence
DESCRIPTION:
URL:http://www.cmcatlanta.com/index.php/component/ohanah/jenn-cornell-approved-absence?format=html&amp;Itemid=
CATEGORIES:Jenn Cornell
GEO:
LOCATION:
END:VEVENT
END:VCALENDAR