BEGIN:VCALENDAR
PRODID:-//Feedo Feed//NONSGML v1.0//EN
VERSION:2.0
CALSCALE:GREGORIAN
METHOD:PUBLISH
X-WR-CALNAME:John Stearns
X-WR-CALDESC:In person.
X-MS-OLK-FORCEINSPECTOROPEN:TRUE
BEGIN:VEVENT
DTSTAMP:20260420T112707Z
DTSTART:20201113T190000Z
DTEND:20201113T193000Z
TRANSP:TRANSPARENT
UID:911502020-11-13
SUMMARY:John Stearns
DESCRIPTION:In person.
URL:http://www.cmcatlanta.com/index.php/component/ohanah/john-stearns-160?format=html&amp;Itemid=
CATEGORIES:Peter Sloan
GEO:33.7704955;-84.29584339999997
LOCATION:CMC Decatur, Private Lesson
END:VEVENT
END:VCALENDAR