BEGIN:VCALENDAR
PRODID:-//Feedo Feed//NONSGML v1.0//EN
VERSION:2.0
CALSCALE:GREGORIAN
METHOD:PUBLISH
X-WR-CALNAME:John Stearns
X-WR-CALDESC:In person.
X-MS-OLK-FORCEINSPECTOROPEN:TRUE
BEGIN:VEVENT
DTSTAMP:20260420T181959Z
DTSTART:20210108T190000Z
DTEND:20210108T193000Z
TRANSP:TRANSPARENT
UID:911582021-01-08
SUMMARY:John Stearns
DESCRIPTION:In person.
URL:http://www.cmcatlanta.com/index.php/component/ohanah/john-stearns-168?format=html&amp;Itemid=
CATEGORIES:Peter Sloan
GEO:33.7704955;-84.29584339999997
LOCATION:CMC Decatur, Private Lesson
END:VEVENT
END:VCALENDAR