BEGIN:VCALENDAR
PRODID:-//Feedo Feed//NONSGML v1.0//EN
VERSION:2.0
CALSCALE:GREGORIAN
METHOD:PUBLISH
X-WR-CALNAME:Jude Shaib
X-WR-CALDESC:
X-MS-OLK-FORCEINSPECTOROPEN:TRUE
BEGIN:VEVENT
DTSTAMP:20260422T025023Z
DTSTART:20210106T193000Z
DTEND:20210106T200000Z
TRANSP:TRANSPARENT
UID:891572021-01-06
SUMMARY:Jude Shaib
DESCRIPTION:
URL:http://www.cmcatlanta.com/index.php/component/ohanah/jude-shaib-19?format=html&amp;Itemid=
CATEGORIES:Stephen Pepper
GEO:33.9462125;-84.33464730000003
LOCATION:CMC Dunwoody, Private Lesson
END:VEVENT
END:VCALENDAR