BEGIN:VCALENDAR
PRODID:-//Feedo Feed//NONSGML v1.0//EN
VERSION:2.0
CALSCALE:GREGORIAN
METHOD:PUBLISH
X-WR-CALNAME:Jude Shaib
X-WR-CALDESC:
X-MS-OLK-FORCEINSPECTOROPEN:TRUE
BEGIN:VEVENT
DTSTAMP:20260423T005240Z
DTSTART:20210806T211500Z
DTEND:20210806T214500Z
TRANSP:TRANSPARENT
UID:967382021-08-06
SUMMARY:Jude Shaib
DESCRIPTION:
URL:http://www.cmcatlanta.com/index.php/component/ohanah/jude-shaib-43?format=html&amp;Itemid=
CATEGORIES:Stephen Pepper
GEO:33.7704955;-84.29584339999997
LOCATION:CMC Decatur, Private Lesson
END:VEVENT
END:VCALENDAR