BEGIN:VCALENDAR
PRODID:-//Feedo Feed//NONSGML v1.0//EN
VERSION:2.0
CALSCALE:GREGORIAN
METHOD:PUBLISH
X-WR-CALNAME:Jude Shaib
X-WR-CALDESC:
X-MS-OLK-FORCEINSPECTOROPEN:TRUE
BEGIN:VEVENT
DTSTAMP:20260420T095108Z
DTSTART:20220511T200000Z
DTEND:20220511T203000Z
TRANSP:TRANSPARENT
UID:1000572022-05-11
SUMMARY:Jude Shaib
DESCRIPTION:
URL:http://www.cmcatlanta.com/index.php/component/ohanah/jude-shaib-87?format=html&amp;Itemid=
CATEGORIES:Johanna Millin
GEO:33.9462125;-84.33464730000003
LOCATION:CMC Dunwoody, Private Lesson
END:VEVENT
END:VCALENDAR