BEGIN:VCALENDAR
PRODID:-//Feedo Feed//NONSGML v1.0//EN
VERSION:2.0
CALSCALE:GREGORIAN
METHOD:PUBLISH
X-WR-CALNAME:June Swartout
X-WR-CALDESC:
X-MS-OLK-FORCEINSPECTOROPEN:TRUE
BEGIN:VEVENT
DTSTAMP:20260422T104156Z
DTSTART:20210601T170000Z
DTEND:20210601T173000Z
TRANSP:TRANSPARENT
UID:952192021-06-01
SUMMARY:June Swartout
DESCRIPTION:
URL:http://www.cmcatlanta.com/index.php/component/ohanah/june-swartout?format=html&amp;Itemid=
CATEGORIES:Peter Sloan
GEO:33.7704955;-84.29584339999997
LOCATION:CMC Decatur, Private Lesson
END:VEVENT
END:VCALENDAR