BEGIN:VCALENDAR
PRODID:-//Feedo Feed//NONSGML v1.0//EN
VERSION:2.0
CALSCALE:GREGORIAN
METHOD:PUBLISH
X-WR-CALNAME:Justin Clopton
X-WR-CALDESC:
X-MS-OLK-FORCEINSPECTOROPEN:TRUE
BEGIN:VEVENT
DTSTAMP:20260424T064410Z
DTSTART:20171021T173000Z
DTEND:20171021T181500Z
TRANSP:TRANSPARENT
UID:597832017-10-21
SUMMARY:Justin Clopton
DESCRIPTION:
URL:http://www.cmcatlanta.com/index.php/component/ohanah/justin-clopton-6?format=html&amp;Itemid=
CATEGORIES:Johnson Gouvea
GEO:33.7646878;-84.35068100000001
LOCATION:CMC Little 5 Points, Private Lesson
END:VEVENT
END:VCALENDAR