BEGIN:VCALENDAR
PRODID:-//Feedo Feed//NONSGML v1.0//EN
VERSION:2.0
CALSCALE:GREGORIAN
METHOD:PUBLISH
X-WR-CALNAME:Karen Dorfman
X-WR-CALDESC:
X-MS-OLK-FORCEINSPECTOROPEN:TRUE
BEGIN:VEVENT
DTSTAMP:20260421T224408Z
DTSTART:20230223T150000Z
DTEND:20230223T160000Z
TRANSP:TRANSPARENT
UID:1088212023-02-23
SUMMARY:Karen Dorfman
DESCRIPTION:
URL:http://www.cmcatlanta.com/index.php/component/ohanah/karen-dorfman-29?format=html&amp;Itemid=
CATEGORIES:Jenn Cornell
GEO:33.7704955;-84.29584339999997
LOCATION:CMC Decatur, Private Lesson
END:VEVENT
END:VCALENDAR