BEGIN:VCALENDAR
PRODID:-//Feedo Feed//NONSGML v1.0//EN
VERSION:2.0
CALSCALE:GREGORIAN
METHOD:PUBLISH
X-WR-CALNAME:Karys Coaxum
X-WR-CALDESC:
X-MS-OLK-FORCEINSPECTOROPEN:TRUE
BEGIN:VEVENT
DTSTAMP:20260421T130617Z
DTSTART:20220622T150000Z
DTEND:20220622T153000Z
TRANSP:TRANSPARENT
UID:1059312022-06-22
SUMMARY:Karys Coaxum
DESCRIPTION:
URL:http://www.cmcatlanta.com/index.php/component/ohanah/karys-coaxum-1?format=html&amp;Itemid=
CATEGORIES:Emelyn Carden
GEO:33.9462125;-84.33464730000003
LOCATION:CMC Dunwoody, Private Lesson
END:VEVENT
END:VCALENDAR