BEGIN:VCALENDAR
PRODID:-//Feedo Feed//NONSGML v1.0//EN
VERSION:2.0
CALSCALE:GREGORIAN
METHOD:PUBLISH
X-WR-CALNAME:Katherine Stratton
X-WR-CALDESC:
X-MS-OLK-FORCEINSPECTOROPEN:TRUE
BEGIN:VEVENT
DTSTAMP:20260422T074429Z
DTSTART:20230121T133000Z
DTEND:20230121T140000Z
TRANSP:TRANSPARENT
UID:1102862023-01-21
SUMMARY:Katherine Stratton
DESCRIPTION:
URL:http://www.cmcatlanta.com/index.php/component/ohanah/katherine-stratton-18?format=html&amp;Itemid=
CATEGORIES:Khesner Oliveira
GEO:33.7646878;-84.35068100000001
LOCATION:CMC Little 5 Points, Private Lesson
END:VEVENT
END:VCALENDAR