BEGIN:VCALENDAR
PRODID:-//Feedo Feed//NONSGML v1.0//EN
VERSION:2.0
CALSCALE:GREGORIAN
METHOD:PUBLISH
X-WR-CALNAME:Katherine Stratton ABSENT
X-WR-CALDESC:
X-MS-OLK-FORCEINSPECTOROPEN:TRUE
BEGIN:VEVENT
DTSTAMP:20260422T074430Z
DTSTART:20230128T133000Z
DTEND:20230128T140000Z
TRANSP:TRANSPARENT
UID:1102872023-01-28
SUMMARY:Katherine Stratton ABSENT
DESCRIPTION:
URL:http://www.cmcatlanta.com/index.php/component/ohanah/katherine-stratton-8?format=html&amp;Itemid=
CATEGORIES:Khesner Oliveira
GEO:33.7646878;-84.35068100000001
LOCATION:CMC Little 5 Points, Private Lesson
END:VEVENT
END:VCALENDAR