BEGIN:VCALENDAR
PRODID:-//Feedo Feed//NONSGML v1.0//EN
VERSION:2.0
CALSCALE:GREGORIAN
METHOD:PUBLISH
X-WR-CALNAME:Keegan Roney ABSENT
X-WR-CALDESC:
X-MS-OLK-FORCEINSPECTOROPEN:TRUE
BEGIN:VEVENT
DTSTAMP:20260422T120002Z
DTSTART:20210715T200000Z
DTEND:20210715T203000Z
TRANSP:TRANSPARENT
UID:954982021-07-15
SUMMARY:Keegan Roney ABSENT
DESCRIPTION:
URL:http://www.cmcatlanta.com/index.php/component/ohanah/keegan-roney-6?format=html&amp;Itemid=
CATEGORIES:Stephen Pepper
GEO:33.9462125;-84.33464730000003
LOCATION:CMC Dunwoody, Private Lesson
END:VEVENT
END:VCALENDAR