BEGIN:VCALENDAR
PRODID:-//Feedo Feed//NONSGML v1.0//EN
VERSION:2.0
CALSCALE:GREGORIAN
METHOD:PUBLISH
X-WR-CALNAME:Keely Beck
X-WR-CALDESC:
X-MS-OLK-FORCEINSPECTOROPEN:TRUE
BEGIN:VEVENT
DTSTAMP:20260425T190744Z
DTSTART:20220220T103000Z
DTEND:20220220T111500Z
TRANSP:TRANSPARENT
UID:1047542022-02-20
SUMMARY:Keely Beck
DESCRIPTION:
URL:http://www.cmcatlanta.com/index.php/component/ohanah/keely-beck-18?format=html&amp;Itemid=
CATEGORIES:Brock Tammeus
GEO:
LOCATION:CMC Brookhaven, Private Lesson
END:VEVENT
END:VCALENDAR