BEGIN:VCALENDAR
PRODID:-//Feedo Feed//NONSGML v1.0//EN
VERSION:2.0
CALSCALE:GREGORIAN
METHOD:PUBLISH
X-WR-CALNAME:Krishikasri Keerthika Prathab
X-WR-CALDESC:
X-MS-OLK-FORCEINSPECTOROPEN:TRUE
BEGIN:VEVENT
DTSTAMP:20260420T222328Z
DTSTART:20200415T203000Z
DTEND:20200415T210000Z
TRANSP:TRANSPARENT
UID:890362020-04-15
SUMMARY:Krishikasri Keerthika Prathab
DESCRIPTION:
URL:http://www.cmcatlanta.com/index.php/component/ohanah/krishikasri-keerthika-prathab-6?format=html&amp;Itemid=
CATEGORIES:Stephen Pepper
GEO:33.9462125;-84.33464730000003
LOCATION:CMC Dunwoody, Private Lesson
END:VEVENT
END:VCALENDAR