BEGIN:VCALENDAR
PRODID:-//Feedo Feed//NONSGML v1.0//EN
VERSION:2.0
CALSCALE:GREGORIAN
METHOD:PUBLISH
X-WR-CALNAME:L5P Admin in the box
X-WR-CALDESC:Adult in the building with minors, AMHS. \n \nShow Katherine AMP route. 
X-MS-OLK-FORCEINSPECTOROPEN:TRUE
BEGIN:VEVENT
DTSTAMP:20260421T232340Z
DTSTART:20220819T130000Z
DTEND:20220819T190000Z
TRANSP:TRANSPARENT
UID:1091052022-08-19
SUMMARY:L5P Admin in the box
DESCRIPTION:Adult in the building with minors, AMHS. \n \nShow Katherine AMP route. 
URL:http://www.cmcatlanta.com/index.php/component/ohanah/l5p-admin-in-the-box-1?format=html&amp;Itemid=
CATEGORIES:Akeal Evans
GEO:33.764702;-84.35057239999998
LOCATION:CMC Little Five Points, Faculty Assignment
END:VEVENT
END:VCALENDAR