BEGIN:VCALENDAR
PRODID:-//Feedo Feed//NONSGML v1.0//EN
VERSION:2.0
CALSCALE:GREGORIAN
METHOD:PUBLISH
X-WR-CALNAME:L5P AMP begins
X-WR-CALDESC:First day of the Afterschool Music Program @ CMC Little 5 Points.  The AMP Shuttles services all nearby public elementary schools, including Mary Lin, SPARK, Fernbank, Morningside, and a limited number of private and charter schools.  Program combines the traditional elements of aftercare with music school immersion, group classes and private lessons on the instrument of choice.\nMore info on AMP  \n 
X-MS-OLK-FORCEINSPECTOROPEN:TRUE
BEGIN:VEVENT
DTSTAMP:20260423T022038Z
DTSTART:20210805T130000Z
DTEND:20210805T173000Z
TRANSP:TRANSPARENT
UID:967402021-08-05
SUMMARY:L5P AMP begins
DESCRIPTION:First day of the Afterschool Music Program @ CMC Little 5 Points.  The AMP Shuttles services all nearby public elementary schools, including Mary Lin, SPARK, Fernbank, Morningside, and a limited number of private and charter schools.  Program combines the traditional elements of aftercare with music school immersion, group classes and private lessons on the instrument of choice.\nMore info on AMP  \n 
URL:http://www.cmcatlanta.com/index.php/component/ohanah/l5p-amp-begins-2?format=html&amp;Itemid=
CATEGORIES:Master Calendar
GEO:33.7646878;-84.35068100000001
LOCATION:CMC Little 5 Points 
END:VEVENT
END:VCALENDAR