BEGIN:VCALENDAR
PRODID:-//Feedo Feed//NONSGML v1.0//EN
VERSION:2.0
CALSCALE:GREGORIAN
METHOD:PUBLISH
X-WR-CALNAME:L5P AMP (Thursday)
X-WR-CALDESC:
X-MS-OLK-FORCEINSPECTOROPEN:TRUE
BEGIN:VEVENT
DTSTAMP:20260423T034316Z
DTSTART:20210826T180000Z
DTEND:20210826T223000Z
TRANSP:TRANSPARENT
UID:1001432021-08-26
SUMMARY:L5P AMP (Thursday)
DESCRIPTION:
URL:http://www.cmcatlanta.com/index.php/component/ohanah/l5p-amp-thursday-19?format=html&amp;Itemid=
CATEGORIES:Pedro Morales
GEO:33.764702;-84.35057239999998
LOCATION:CMC Little Five Points, Faculty Assignment
END:VEVENT
END:VCALENDAR